Package: MOSim Version: 1.16.0 Command: /home/biocbuild/R/R-4.3.1/bin/R CMD INSTALL MOSim StartedAt: 2023-11-01 20:12:32 -0000 (Wed, 01 Nov 2023) EndedAt: 2023-11-01 20:12:52 -0000 (Wed, 01 Nov 2023) EllapsedTime: 20.6 seconds RetCode: 0 Status: OK