Package: MOFA2 Version: 1.12.1 Command: rm -rf MOFA2.buildbin-libdir && mkdir MOFA2.buildbin-libdir && F:\biocbuild\bbs-3.18-bioc\R\bin\R.exe CMD INSTALL --build --library=MOFA2.buildbin-libdir MOFA2_1.12.1.tar.gz StartedAt: 2024-04-16 07:18:17 -0400 (Tue, 16 Apr 2024) EndedAt: 2024-04-16 07:19:07 -0400 (Tue, 16 Apr 2024) EllapsedTime: 49.3 seconds RetCode: 0 Status: OK PackageFile: MOFA2_1.12.1.zip PackageFileSize: 3.772 MiB