Package: MOFA2 Version: 1.12.1 Command: /Library/Frameworks/R.framework/Resources/bin/R CMD build --keep-empty-dirs --no-resave-data MOFA2 StartedAt: 2024-03-03 17:25:45 -0500 (Sun, 03 Mar 2024) EndedAt: 2024-03-03 17:27:59 -0500 (Sun, 03 Mar 2024) EllapsedTime: 134.5 seconds RetCode: 0 Status: OK PackageFile: MOFA2_1.12.1.tar.gz PackageFileSize: 4.159 MiB