Package: MOFA2 Version: 1.12.0 Command: /home/biocbuild/R/R-4.3.1/bin/R CMD build --keep-empty-dirs --no-resave-data MOFA2 StartedAt: 2023-11-02 03:38:00 -0000 (Thu, 02 Nov 2023) EndedAt: 2023-11-02 03:40:39 -0000 (Thu, 02 Nov 2023) EllapsedTime: 159.4 seconds RetCode: 0 Status: OK PackageFile: MOFA2_1.12.0.tar.gz PackageFileSize: 4.332 MiB