Package: MMUPHin Version: 1.16.0 Command: rm -rf MMUPHin.buildbin-libdir && mkdir MMUPHin.buildbin-libdir && /Users/biocbuild/BBS/utils/build-universal.sh MMUPHin_1.16.0.tar.gz /Library/Frameworks/R.framework/Resources/bin/R MMUPHin.buildbin-libdir StartedAt: 2024-03-04 00:51:23 -0500 (Mon, 04 Mar 2024) EndedAt: 2024-03-04 00:51:36 -0500 (Mon, 04 Mar 2024) EllapsedTime: 12.5 seconds RetCode: 0 Status: OK PackageFile: MMUPHin_1.16.0.tgz PackageFileSize: 2.539 MiB