Package: MMAPPR2 Version: 1.16.0 Command: /home/biocbuild/bbs-3.18-bioc/R/bin/R CMD check --install=check:MMAPPR2.install-out.txt --library=/home/biocbuild/bbs-3.18-bioc/R/site-library --timings MMAPPR2_1.16.0.tar.gz StartedAt: 2023-10-31 23:39:09 -0400 (Tue, 31 Oct 2023) EndedAt: 2023-10-31 23:45:09 -0400 (Tue, 31 Oct 2023) EllapsedTime: 360.2 seconds RetCode: 0 Status: OK CheckDir: MMAPPR2.Rcheck Warnings: 0