Package: MMAPPR2 Version: 1.16.0 Command: /home/biocbuild/bbs-3.18-bioc/R/bin/R CMD build --keep-empty-dirs --no-resave-data MMAPPR2 StartedAt: 2024-04-15 17:59:30 -0400 (Mon, 15 Apr 2024) EndedAt: 2024-04-15 18:01:00 -0400 (Mon, 15 Apr 2024) EllapsedTime: 90.5 seconds RetCode: 1 Status: ERROR PackageFile: None PackageFileSize: NA