Package: MMAPPR2 Version: 1.16.0 Command: /Library/Frameworks/R.framework/Resources/bin/R CMD INSTALL MMAPPR2 StartedAt: 2024-04-15 16:02:53 -0400 (Mon, 15 Apr 2024) EndedAt: 2024-04-15 16:04:25 -0400 (Mon, 15 Apr 2024) EllapsedTime: 92.0 seconds RetCode: 0 Status: OK