Package: MMAPPR2 Version: 1.16.0 Command: rm -rf MMAPPR2.buildbin-libdir && mkdir MMAPPR2.buildbin-libdir && /Users/biocbuild/BBS/utils/build-universal.sh MMAPPR2_1.16.0.tar.gz /Library/Frameworks/R.framework/Resources/bin/R MMAPPR2.buildbin-libdir StartedAt: 2024-03-04 00:51:20 -0500 (Mon, 04 Mar 2024) EndedAt: 2024-03-04 00:52:26 -0500 (Mon, 04 Mar 2024) EllapsedTime: 65.6 seconds RetCode: 0 Status: OK PackageFile: MMAPPR2_1.16.0.tgz PackageFileSize: 723.5 KiB