Package: MMAPPR2 Version: 1.16.0 Command: /home/biocbuild/R/R-4.3.1/bin/R CMD build --keep-empty-dirs --no-resave-data MMAPPR2 StartedAt: 2023-11-02 03:35:22 -0000 (Thu, 02 Nov 2023) EndedAt: 2023-11-02 03:37:20 -0000 (Thu, 02 Nov 2023) EllapsedTime: 117.2 seconds RetCode: 0 Status: OK PackageFile: MMAPPR2_1.16.0.tar.gz PackageFileSize: 472.9 KiB