Package: MLInterfaces Version: 1.82.0 Command: /home/biocbuild/bbs-3.18-bioc/R/bin/R CMD check --install=check:MLInterfaces.install-out.txt --library=/home/biocbuild/bbs-3.18-bioc/R/site-library --timings MLInterfaces_1.82.0.tar.gz StartedAt: 2024-04-16 01:01:36 -0400 (Tue, 16 Apr 2024) EndedAt: 2024-04-16 01:06:48 -0400 (Tue, 16 Apr 2024) EllapsedTime: 312.6 seconds RetCode: 0 Status: WARNINGS CheckDir: MLInterfaces.Rcheck Warnings: 1