Package: MIRA Version: 1.24.0 Command: /Library/Frameworks/R.framework/Resources/bin/R CMD INSTALL MIRA StartedAt: 2024-04-15 15:37:14 -0400 (Mon, 15 Apr 2024) EndedAt: 2024-04-15 15:38:42 -0400 (Mon, 15 Apr 2024) EllapsedTime: 88.3 seconds RetCode: 0 Status: OK