Package: MIRA Version: 1.24.0 Command: /home/biocbuild/R/R-4.3.1/bin/R CMD build --keep-empty-dirs --no-resave-data MIRA StartedAt: 2023-11-02 03:30:44 -0000 (Thu, 02 Nov 2023) EndedAt: 2023-11-02 03:32:02 -0000 (Thu, 02 Nov 2023) EllapsedTime: 78.1 seconds RetCode: 0 Status: OK PackageFile: MIRA_1.24.0.tar.gz PackageFileSize: 2.501 MiB