Package: MIGSA Version: 1.23.1 Command: /home/biocbuild/bbs-3.18-bioc/R/bin/R CMD INSTALL MIGSA StartedAt: 2023-04-20 03:49:11 -0400 (Thu, 20 Apr 2023) EndedAt: 2023-04-20 03:49:41 -0400 (Thu, 20 Apr 2023) EllapsedTime: 29.2 seconds RetCode: 0 Status: OK