Package: MIGSA Version: 1.23.1 Command: /home/biocbuild/bbs-3.18-bioc/R/bin/R CMD build --keep-empty-dirs --no-resave-data MIGSA StartedAt: 2023-04-20 05:08:47 -0400 (Thu, 20 Apr 2023) EndedAt: 2023-04-20 05:09:26 -0400 (Thu, 20 Apr 2023) EllapsedTime: 38.7 seconds RetCode: 1 Status: ERROR PackageFile: None PackageFileSize: NA