Package: MICSQTL Version: 1.0.0 Command: /Library/Frameworks/R.framework/Resources/bin/R CMD INSTALL MICSQTL StartedAt: 2024-03-03 15:41:38 -0500 (Sun, 03 Mar 2024) EndedAt: 2024-03-03 15:42:16 -0500 (Sun, 03 Mar 2024) EllapsedTime: 38.1 seconds RetCode: 0 Status: OK