Package: MICSQTL Version: 1.0.0 Command: rm -rf MICSQTL.buildbin-libdir && mkdir MICSQTL.buildbin-libdir && /Users/biocbuild/BBS/utils/build-universal.sh MICSQTL_1.0.0.tar.gz /Library/Frameworks/R.framework/Resources/bin/R MICSQTL.buildbin-libdir StartedAt: 2024-03-04 00:50:42 -0500 (Mon, 04 Mar 2024) EndedAt: 2024-03-04 00:51:20 -0500 (Mon, 04 Mar 2024) EllapsedTime: 38.5 seconds RetCode: 0 Status: OK PackageFile: MICSQTL_1.0.0.tgz PackageFileSize: 2.547 MiB