Package: MGFR Version: 1.28.0 Command: rm -rf MGFR.buildbin-libdir && mkdir MGFR.buildbin-libdir && F:\biocbuild\bbs-3.18-bioc\R\bin\R.exe CMD INSTALL --build --library=MGFR.buildbin-libdir MGFR_1.28.0.tar.gz StartedAt: 2024-04-16 07:16:35 -0400 (Tue, 16 Apr 2024) EndedAt: 2024-04-16 07:17:06 -0400 (Tue, 16 Apr 2024) EllapsedTime: 31.7 seconds RetCode: 0 Status: OK PackageFile: MGFR_1.28.0.zip PackageFileSize: 2.474 MiB