Package: MGFR Version: 1.28.0 Command: /Library/Frameworks/R.framework/Resources/bin/R CMD INSTALL MGFR StartedAt: 2024-03-03 15:17:53 -0500 (Sun, 03 Mar 2024) EndedAt: 2024-03-03 15:18:16 -0500 (Sun, 03 Mar 2024) EllapsedTime: 23.0 seconds RetCode: 0 Status: OK