Package: MGFR Version: 1.28.0 Command: /Library/Frameworks/R.framework/Resources/bin/R CMD build --keep-empty-dirs --no-resave-data MGFR StartedAt: 2024-03-03 17:21:40 -0500 (Sun, 03 Mar 2024) EndedAt: 2024-03-03 17:22:23 -0500 (Sun, 03 Mar 2024) EllapsedTime: 43.0 seconds RetCode: 0 Status: OK PackageFile: MGFR_1.28.0.tar.gz PackageFileSize: 1.823 MiB