Package: MGFM Version: 1.36.0 Command: rm -rf MGFM.buildbin-libdir && mkdir MGFM.buildbin-libdir && /Users/biocbuild/BBS/utils/build-universal.sh MGFM_1.36.0.tar.gz /Library/Frameworks/R.framework/Resources/bin/R MGFM.buildbin-libdir StartedAt: 2024-03-04 00:50:18 -0500 (Mon, 04 Mar 2024) EndedAt: 2024-03-04 00:50:40 -0500 (Mon, 04 Mar 2024) EllapsedTime: 22.3 seconds RetCode: 0 Status: OK PackageFile: MGFM_1.36.0.tgz PackageFileSize: 3.145 MiB