Package: MEIGOR Version: 1.36.2 Command: /home/biocbuild/bbs-3.18-bioc/R/bin/R CMD check --install=check:MEIGOR.install-out.txt --library=/home/biocbuild/bbs-3.18-bioc/R/site-library --timings MEIGOR_1.36.2.tar.gz StartedAt: 2024-04-16 00:35:07 -0400 (Tue, 16 Apr 2024) EndedAt: 2024-04-16 00:37:27 -0400 (Tue, 16 Apr 2024) EllapsedTime: 139.3 seconds RetCode: 0 Status: WARNINGS CheckDir: MEIGOR.Rcheck Warnings: 1