Package: MEIGOR Version: 1.36.2 Command: /Library/Frameworks/R.framework/Resources/bin/R CMD build --keep-empty-dirs --no-resave-data MEIGOR StartedAt: 2024-04-15 19:49:59 -0400 (Mon, 15 Apr 2024) EndedAt: 2024-04-15 19:51:32 -0400 (Mon, 15 Apr 2024) EllapsedTime: 93.4 seconds RetCode: 0 Status: OK PackageFile: MEIGOR_1.36.2.tar.gz PackageFileSize: 1.766 MiB