Package: MEDME Version: 1.62.0 Command: /home/biocbuild/R/R-4.3.1/bin/R CMD INSTALL MEDME StartedAt: 2023-11-01 20:50:09 -0000 (Wed, 01 Nov 2023) EndedAt: 2023-11-01 20:50:30 -0000 (Wed, 01 Nov 2023) EllapsedTime: 20.6 seconds RetCode: 0 Status: OK