Package: MEDIPS Version: 1.54.0 Command: chmod a+r MEDIPS -R && F:\biocbuild\bbs-3.18-bioc\R\bin\R.exe CMD build --keep-empty-dirs --no-resave-data MEDIPS StartedAt: 2024-04-15 19:23:38 -0400 (Mon, 15 Apr 2024) EndedAt: 2024-04-15 19:26:02 -0400 (Mon, 15 Apr 2024) EllapsedTime: 143.8 seconds RetCode: 0 Status: OK PackageFile: MEDIPS_1.54.0.tar.gz PackageFileSize: 322.8 KiB