Package: MEDIPS Version: 1.54.0 Command: rm -rf MEDIPS.buildbin-libdir && mkdir MEDIPS.buildbin-libdir && /Users/biocbuild/BBS/utils/build-universal.sh MEDIPS_1.54.0.tar.gz /Library/Frameworks/R.framework/Resources/bin/R MEDIPS.buildbin-libdir StartedAt: 2024-04-16 12:09:26 -0400 (Tue, 16 Apr 2024) EndedAt: 2024-04-16 12:11:11 -0400 (Tue, 16 Apr 2024) EllapsedTime: 105.5 seconds RetCode: 0 Status: OK PackageFile: MEDIPS_1.54.0.tgz PackageFileSize: 747.8 KiB