Package: MEDIPS Version: 1.54.0 Command: /Library/Frameworks/R.framework/Resources/bin/R CMD check --install=check:MEDIPS.install-out.txt --library=/Library/Frameworks/R.framework/Resources/library --no-vignettes --timings MEDIPS_1.54.0.tar.gz StartedAt: 2024-03-03 21:37:34 -0500 (Sun, 03 Mar 2024) EndedAt: 2024-03-03 21:44:12 -0500 (Sun, 03 Mar 2024) EllapsedTime: 398.3 seconds RetCode: 0 Status: OK CheckDir: MEDIPS.Rcheck Warnings: 0