Package: MEAT Version: 1.14.0 Command: chmod a+r MEAT -R && F:\biocbuild\bbs-3.18-bioc\R\bin\R.exe CMD build --keep-empty-dirs --no-resave-data MEAT StartedAt: 2024-04-15 19:23:29 -0400 (Mon, 15 Apr 2024) EndedAt: 2024-04-15 19:25:23 -0400 (Mon, 15 Apr 2024) EllapsedTime: 114.2 seconds RetCode: 0 Status: OK PackageFile: MEAT_1.14.0.tar.gz PackageFileSize: 4.974 MiB