Package: MEAT Version: 1.14.0 Command: rm -rf MEAT.buildbin-libdir && mkdir MEAT.buildbin-libdir && F:\biocbuild\bbs-3.18-bioc\R\bin\R.exe CMD INSTALL --build --library=MEAT.buildbin-libdir MEAT_1.14.0.tar.gz StartedAt: 2024-04-16 07:14:47 -0400 (Tue, 16 Apr 2024) EndedAt: 2024-04-16 07:16:08 -0400 (Tue, 16 Apr 2024) EllapsedTime: 81.1 seconds RetCode: 0 Status: OK PackageFile: MEAT_1.14.0.zip PackageFileSize: 5.703 MiB