Package: MEAT Version: 1.14.0 Command: /home/biocbuild/bbs-3.18-bioc/R/bin/R CMD check --install=check:MEAT.install-out.txt --library=/home/biocbuild/bbs-3.18-bioc/R/site-library --timings MEAT_1.14.0.tar.gz StartedAt: 2024-04-16 00:33:50 -0400 (Tue, 16 Apr 2024) EndedAt: 2024-04-16 00:41:40 -0400 (Tue, 16 Apr 2024) EllapsedTime: 470.4 seconds RetCode: 0 Status: WARNINGS CheckDir: MEAT.Rcheck Warnings: 1