Package: MEAL Version: 1.32.0 Command: chmod a+r MEAL -R && F:\biocbuild\bbs-3.18-bioc\R\bin\R.exe CMD build --keep-empty-dirs --no-resave-data MEAL StartedAt: 2024-04-15 19:23:22 -0400 (Mon, 15 Apr 2024) EndedAt: 2024-04-15 19:31:40 -0400 (Mon, 15 Apr 2024) EllapsedTime: 498.1 seconds RetCode: 0 Status: OK PackageFile: MEAL_1.32.0.tar.gz PackageFileSize: 1.014 MiB