Package: MEAL Version: 1.32.0 Command: /Library/Frameworks/R.framework/Resources/bin/R CMD build --keep-empty-dirs --no-resave-data MEAL StartedAt: 2024-04-15 19:49:19 -0400 (Mon, 15 Apr 2024) EndedAt: 2024-04-15 20:00:37 -0400 (Mon, 15 Apr 2024) EllapsedTime: 677.5 seconds RetCode: 0 Status: OK PackageFile: MEAL_1.32.0.tar.gz PackageFileSize: 2.067 MiB