Package: MEAL Version: 1.32.0 Command: /home/biocbuild/R/R-4.3.1/bin/R CMD INSTALL MEAL StartedAt: 2023-11-01 21:02:44 -0000 (Wed, 01 Nov 2023) EndedAt: 2023-11-01 21:03:49 -0000 (Wed, 01 Nov 2023) EllapsedTime: 65.1 seconds RetCode: 0 Status: OK