Package: MDTS Version: 1.22.0 Command: rm -rf MDTS.buildbin-libdir && mkdir MDTS.buildbin-libdir && F:\biocbuild\bbs-3.18-bioc\R\bin\R.exe CMD INSTALL --build --library=MDTS.buildbin-libdir MDTS_1.22.0.tar.gz StartedAt: 2024-04-16 07:14:41 -0400 (Tue, 16 Apr 2024) EndedAt: 2024-04-16 07:15:20 -0400 (Tue, 16 Apr 2024) EllapsedTime: 38.6 seconds RetCode: 0 Status: OK PackageFile: MDTS_1.22.0.zip PackageFileSize: 84.8 KiB