Package: MBttest Version: 1.30.0 Command: /home/biocbuild/bbs-3.18-bioc/R/bin/R CMD INSTALL MBttest StartedAt: 2024-04-15 15:07:45 -0400 (Mon, 15 Apr 2024) EndedAt: 2024-04-15 15:07:54 -0400 (Mon, 15 Apr 2024) EllapsedTime: 9.5 seconds RetCode: 0 Status: OK