Package: MBttest Version: 1.30.0 Command: /home/biocbuild/R/R-4.3.1/bin/R CMD INSTALL MBttest StartedAt: 2023-11-01 20:06:20 -0000 (Wed, 01 Nov 2023) EndedAt: 2023-11-01 20:06:32 -0000 (Wed, 01 Nov 2023) EllapsedTime: 12.4 seconds RetCode: 0 Status: OK