Package: MBQN Version: 2.14.0 Command: F:\biocbuild\bbs-3.18-bioc\R\bin\R.exe CMD INSTALL MBQN StartedAt: 2024-04-15 16:12:38 -0400 (Mon, 15 Apr 2024) EndedAt: 2024-04-15 16:12:43 -0400 (Mon, 15 Apr 2024) EllapsedTime: 5.1 seconds RetCode: 0 Status: OK