Package: MBQN Version: 2.14.0 Command: /Library/Frameworks/R.framework/Resources/bin/R CMD check --install=check:MBQN.install-out.txt --library=/Library/Frameworks/R.framework/Resources/library --no-vignettes --timings MBQN_2.14.0.tar.gz StartedAt: 2024-03-03 21:35:38 -0500 (Sun, 03 Mar 2024) EndedAt: 2024-03-03 21:36:14 -0500 (Sun, 03 Mar 2024) EllapsedTime: 36.1 seconds RetCode: 0 Status: OK CheckDir: MBQN.Rcheck Warnings: 0