Package: MBECS Version: 1.6.0 Command: chmod a+r MBECS -R && F:\biocbuild\bbs-3.18-bioc\R\bin\R.exe CMD build --keep-empty-dirs --no-resave-data MBECS StartedAt: 2024-04-15 19:21:58 -0400 (Mon, 15 Apr 2024) EndedAt: 2024-04-15 19:23:25 -0400 (Mon, 15 Apr 2024) EllapsedTime: 86.8 seconds RetCode: 0 Status: OK PackageFile: MBECS_1.6.0.tar.gz PackageFileSize: 1.452 MiB