Package: MBECS Version: 1.6.0 Command: /home/biocbuild/bbs-3.18-bioc/R/bin/R CMD check --install=check:MBECS.install-out.txt --library=/home/biocbuild/bbs-3.18-bioc/R/site-library --timings MBECS_1.6.0.tar.gz StartedAt: 2024-04-16 00:30:36 -0400 (Tue, 16 Apr 2024) EndedAt: 2024-04-16 00:35:50 -0400 (Tue, 16 Apr 2024) EllapsedTime: 314.2 seconds RetCode: 0 Status: OK CheckDir: MBECS.Rcheck Warnings: 0