Package: MBECS Version: 1.6.0 Command: /home/biocbuild/bbs-3.18-bioc/R/bin/R CMD build --keep-empty-dirs --no-resave-data MBECS StartedAt: 2024-04-15 17:47:46 -0400 (Mon, 15 Apr 2024) EndedAt: 2024-04-15 17:48:45 -0400 (Mon, 15 Apr 2024) EllapsedTime: 59.1 seconds RetCode: 0 Status: OK PackageFile: MBECS_1.6.0.tar.gz PackageFileSize: 1.614 MiB