Package: MBECS Version: 1.6.0 Command: /Library/Frameworks/R.framework/Resources/bin/R CMD INSTALL MBECS StartedAt: 2024-03-03 15:36:00 -0500 (Sun, 03 Mar 2024) EndedAt: 2024-03-03 15:36:30 -0500 (Sun, 03 Mar 2024) EllapsedTime: 30.0 seconds RetCode: 0 Status: OK