Package: MBCB Version: 1.56.0 Command: rm -rf MBCB.buildbin-libdir && mkdir MBCB.buildbin-libdir && /Users/biocbuild/BBS/utils/build-universal.sh MBCB_1.56.0.tar.gz /Library/Frameworks/R.framework/Resources/bin/R MBCB.buildbin-libdir StartedAt: 2024-03-04 00:48:59 -0500 (Mon, 04 Mar 2024) EndedAt: 2024-03-04 00:49:08 -0500 (Mon, 04 Mar 2024) EllapsedTime: 9.2 seconds RetCode: 0 Status: OK PackageFile: MBCB_1.56.0.tgz PackageFileSize: 470.1 KiB