Package: MBAmethyl Version: 1.36.0 Command: /Library/Frameworks/R.framework/Resources/bin/R CMD build --keep-empty-dirs --no-resave-data MBAmethyl StartedAt: 2024-03-03 17:15:37 -0500 (Sun, 03 Mar 2024) EndedAt: 2024-03-03 17:15:54 -0500 (Sun, 03 Mar 2024) EllapsedTime: 16.9 seconds RetCode: 0 Status: OK PackageFile: MBAmethyl_1.36.0.tar.gz PackageFileSize: 87.35 KiB