Package: MANOR Version: 1.74.0 Command: rm -rf MANOR.buildbin-libdir && mkdir MANOR.buildbin-libdir && F:\biocbuild\bbs-3.18-bioc\R\bin\R.exe CMD INSTALL --build --library=MANOR.buildbin-libdir MANOR_1.74.0.tar.gz StartedAt: 2024-04-16 07:13:41 -0400 (Tue, 16 Apr 2024) EndedAt: 2024-04-16 07:13:53 -0400 (Tue, 16 Apr 2024) EllapsedTime: 11.8 seconds RetCode: 0 Status: OK PackageFile: MANOR_1.74.0.zip PackageFileSize: 912.8 KiB