Package: MANOR Version: 1.74.0 Command: rm -rf MANOR.buildbin-libdir && mkdir MANOR.buildbin-libdir && /Users/biocbuild/BBS/utils/build-universal.sh MANOR_1.74.0.tar.gz /Library/Frameworks/R.framework/Resources/bin/R MANOR.buildbin-libdir StartedAt: 2024-04-16 12:07:06 -0400 (Tue, 16 Apr 2024) EndedAt: 2024-04-16 12:07:22 -0400 (Tue, 16 Apr 2024) EllapsedTime: 16.4 seconds RetCode: 0 Status: OK PackageFile: MANOR_1.74.0.tgz PackageFileSize: 1.784 MiB