Package: MAIT Version: 1.36.0 Command: /home/biocbuild/bbs-3.18-bioc/R/bin/R CMD build --keep-empty-dirs --no-resave-data MAIT StartedAt: 2024-04-15 17:45:28 -0400 (Mon, 15 Apr 2024) EndedAt: 2024-04-15 17:48:10 -0400 (Mon, 15 Apr 2024) EllapsedTime: 162.6 seconds RetCode: 0 Status: OK PackageFile: MAIT_1.36.0.tar.gz PackageFileSize: 2.257 MiB