Package: MAI Version: 1.8.0 Command: F:\biocbuild\bbs-3.18-bioc\R\bin\R.exe CMD INSTALL MAI StartedAt: 2024-04-15 16:32:18 -0400 (Mon, 15 Apr 2024) EndedAt: 2024-04-15 16:32:51 -0400 (Mon, 15 Apr 2024) EllapsedTime: 33.6 seconds RetCode: 0 Status: OK