Package: MAI Version: 1.8.0 Command: chmod a+r MAI -R && F:\biocbuild\bbs-3.18-bioc\R\bin\R.exe CMD build --keep-empty-dirs --no-resave-data MAI StartedAt: 2024-04-15 19:19:21 -0400 (Mon, 15 Apr 2024) EndedAt: 2024-04-15 19:25:02 -0400 (Mon, 15 Apr 2024) EllapsedTime: 340.7 seconds RetCode: 0 Status: OK PackageFile: MAI_1.8.0.tar.gz PackageFileSize: 452.5 KiB