Package: MAI Version: 1.8.0 Command: rm -rf MAI.buildbin-libdir && mkdir MAI.buildbin-libdir && F:\biocbuild\bbs-3.18-bioc\R\bin\R.exe CMD INSTALL --build --library=MAI.buildbin-libdir MAI_1.8.0.tar.gz StartedAt: 2024-04-16 07:13:35 -0400 (Tue, 16 Apr 2024) EndedAt: 2024-04-16 07:14:11 -0400 (Tue, 16 Apr 2024) EllapsedTime: 36.3 seconds RetCode: 0 Status: OK PackageFile: MAI_1.8.0.zip PackageFileSize: 501.6 KiB